BEGIN:VCALENDAR
VERSION:2.0
PRODID:-//Plone.org//NONSGML plone.app.event//EN
X-WR-TIMEZONE:Europe/Madrid
BEGIN:VEVENT
SUMMARY:Presentació del llibre- Un hombre que se parecía a Al Pacino
DTSTART;TZID=Europe/Madrid;VALUE=DATE-TIME:20240426T123000
DTSTAMP;VALUE=DATE-TIME:20260420T200216Z
UID:9d6f199315ce4f869283272fcea80fa1@www.paeria.cat
CATEGORIES:Llibres i literatura,Cultura
CREATED;VALUE=DATE-TIME:20240424T065843Z
LAST-MODIFIED;VALUE=DATE-TIME:20240424T070106Z
URL:https://www.paeria.cat/ca/actualitat/agenda/presentacio-del-llibre-un-
 hombre-que-se-parecia-a-al-pacino
END:VEVENT
BEGIN:VTIMEZONE
TZID:Europe/Madrid
X-LIC-LOCATION:Europe/Madrid
BEGIN:DAYLIGHT
DTSTART;VALUE=DATE-TIME:20240331T030000
TZNAME:CEST
TZOFFSETFROM:+0100
TZOFFSETTO:+0200
END:DAYLIGHT
END:VTIMEZONE
END:VCALENDAR
