BEGIN:VCALENDAR
VERSION:2.0
PRODID:-//Plone.org//NONSGML plone.app.event//EN
X-WR-TIMEZONE:Europe/Madrid
BEGIN:VEVENT
SUMMARY:Presentació dels llibres - Diccionari de Medicina Il·lustrat per
  a principiants i El coronavirus és verd!
DTSTART;TZID=Europe/Madrid;VALUE=DATE-TIME:20240223T190000
DTSTAMP;VALUE=DATE-TIME:20260423T052044Z
UID:0185fd16f7d24864aa7833aa0ee8ceff@www.paeria.cat
CATEGORIES:Llibres i literatura,Cultura
CREATED;VALUE=DATE-TIME:20240207T085202Z
LAST-MODIFIED;VALUE=DATE-TIME:20240219T115400Z
URL:https://www.paeria.cat/ca/actualitat/agenda/presentacio-dels-llibres-d
 iccionari-de-medicina-il-lustrat-per-a-principiants-i-el-coronavirus-es-ve
 rd
END:VEVENT
BEGIN:VTIMEZONE
TZID:Europe/Madrid
X-LIC-LOCATION:Europe/Madrid
BEGIN:STANDARD
DTSTART;VALUE=DATE-TIME:20231029T020000
TZNAME:CET
TZOFFSETFROM:+0200
TZOFFSETTO:+0100
END:STANDARD
END:VTIMEZONE
END:VCALENDAR
