BEGIN:VCALENDAR
VERSION:2.0
PRODID:-//Plone.org//NONSGML plone.app.event//EN
X-WR-TIMEZONE:Europe/Madrid
BEGIN:VEVENT
SUMMARY:Presentació dels llibres- Memoria organoléptica i Malva
DTSTART;TZID=Europe/Madrid;VALUE=DATE-TIME:20240524T190000
DTSTAMP;VALUE=DATE-TIME:20260422T122925Z
UID:4a48ebdcd35b4acf97a6782d68023d03@www.paeria.cat
CATEGORIES:Llibres i literatura,Cultura
CREATED;VALUE=DATE-TIME:20240508T064436Z
LAST-MODIFIED;VALUE=DATE-TIME:20240508T064717Z
URL:https://www.paeria.cat/ca/actualitat/agenda/presentacio-dels-llibres-m
 emoria-organoleptica-i-malva
END:VEVENT
BEGIN:VTIMEZONE
TZID:Europe/Madrid
X-LIC-LOCATION:Europe/Madrid
BEGIN:DAYLIGHT
DTSTART;VALUE=DATE-TIME:20240331T030000
TZNAME:CEST
TZOFFSETFROM:+0100
TZOFFSETTO:+0200
END:DAYLIGHT
END:VTIMEZONE
END:VCALENDAR
