BEGIN:VCALENDAR
VERSION:2.0
PRODID:-//Plone.org//NONSGML plone.app.event//EN
X-WR-TIMEZONE:Europe/Madrid
BEGIN:VEVENT
SUMMARY:Presentació dels llibres- Mi mejor versión... es femenina i Lore
 n\, mi causa
DTSTART;TZID=Europe/Madrid;VALUE=DATE-TIME:20241116T120000
DTSTAMP;VALUE=DATE-TIME:20260421T100549Z
UID:690a90810fcb4f029a42b79e67e89d73@www.paeria.cat
CATEGORIES:Cultura,Llibres i literatura
CREATED;VALUE=DATE-TIME:20241111T074135Z
LAST-MODIFIED;VALUE=DATE-TIME:20250514T125343Z
URL:https://www.paeria.cat/ca/actualitat/agenda/presentacio-dels-llibres-m
 i-mejor-version-es-femenina-i-loren-mi-causa
END:VEVENT
BEGIN:VTIMEZONE
TZID:Europe/Madrid
X-LIC-LOCATION:Europe/Madrid
BEGIN:STANDARD
DTSTART;VALUE=DATE-TIME:20241027T020000
TZNAME:CET
TZOFFSETFROM:+0200
TZOFFSETTO:+0100
END:STANDARD
END:VTIMEZONE
END:VCALENDAR
