BEGIN:VCALENDAR
VERSION:2.0
PRODID:-//Plone.org//NONSGML plone.app.event//EN
X-WR-TIMEZONE:Europe/Madrid
BEGIN:VEVENT
SUMMARY:Presentació i tertúlia sobre el llibre- La mort de l’altre
DTSTART;TZID=Europe/Madrid;VALUE=DATE-TIME:20241218T193000
DTSTAMP;VALUE=DATE-TIME:20260422T123048Z
UID:74cc064189fe4a4fb1f54c8151ba3a2c@www.paeria.cat
CATEGORIES:Cultura,Llibres i literatura
CREATED;VALUE=DATE-TIME:20241128T144656Z
LAST-MODIFIED;VALUE=DATE-TIME:20250514T125401Z
URL:https://www.paeria.cat/ca/actualitat/agenda/presentacio-i-tertulia-sob
 re-el-llibre-la-mort-de-l2019altre
END:VEVENT
BEGIN:VTIMEZONE
TZID:Europe/Madrid
X-LIC-LOCATION:Europe/Madrid
BEGIN:STANDARD
DTSTART;VALUE=DATE-TIME:20241027T020000
TZNAME:CET
TZOFFSETFROM:+0200
TZOFFSETTO:+0100
END:STANDARD
END:VTIMEZONE
END:VCALENDAR
