BEGIN:VCALENDAR
VERSION:2.0
PRODID:-//Plone.org//NONSGML plone.app.event//EN
X-WR-TIMEZONE:Europe/Madrid
BEGIN:VEVENT
SUMMARY:Festa Major 2025 - la prèvia
DTSTART;VALUE=DATE:20250501
DTEND;VALUE=DATE:20250509
DTSTAMP;VALUE=DATE-TIME:20260423T032605Z
UID:7e6f6ed0613747b2b848bb1434b332c4@www.paeria.cat
CATEGORIES:Tots els públics,Cultura,Cultura popular,Música
CREATED;VALUE=DATE-TIME:20250424T112408Z
LAST-MODIFIED;VALUE=DATE-TIME:20260304T112853Z
URL:https://www.paeria.cat/ca/actualitat/agenda/programa_festa-major-2025
END:VEVENT
END:VCALENDAR
