BEGIN:VCALENDAR
VERSION:2.0
PRODID:-//Plone.org//NONSGML plone.app.event//EN
X-WR-TIMEZONE:Europe/Madrid
BEGIN:VEVENT
SUMMARY:PROJECCIÓ DUNIA I ALTRES CONTES DEL MÓN DIVERSOS AUTORS\, PAÏSO
 S I ANYS. Caixaforum Lleida
DTSTART;TZID=Europe/Madrid;VALUE=DATE-TIME:20231203T120000
DTEND;TZID=Europe/Madrid;VALUE=DATE-TIME:20231203T130000
DTSTAMP;VALUE=DATE-TIME:20260423T001742Z
UID:cbe2d4ed86214be1b3a4db20afa651b2@www.paeria.cat
CATEGORIES:Cultura,Familiar,Infantil,Cinema i vídeo
CREATED;VALUE=DATE-TIME:20231128T132248Z
DESCRIPTION:Edat recomanada: +6
LAST-MODIFIED;VALUE=DATE-TIME:20251104T135615Z
URL:https://www.paeria.cat/ca/actualitat/agenda/projeccio-dunia-i-altres-c
 ontes-del-mon-diversos-autors-paisos-i-anys-caixaforum-lleida
END:VEVENT
BEGIN:VTIMEZONE
TZID:Europe/Madrid
X-LIC-LOCATION:Europe/Madrid
BEGIN:STANDARD
DTSTART;VALUE=DATE-TIME:20231029T020000
TZNAME:CET
TZOFFSETFROM:+0200
TZOFFSETTO:+0100
END:STANDARD
END:VTIMEZONE
END:VCALENDAR
