BEGIN:VCALENDAR
VERSION:2.0
PRODID:-//Plone.org//NONSGML plone.app.event//EN
X-WR-TIMEZONE:Europe/Madrid
BEGIN:VEVENT
SUMMARY:Proves semifinals XXV CONCURS INTERNACIONAL DE PIANO RICARD VIÑES
DTSTART;VALUE=DATE:20230629
DTEND;VALUE=DATE:20230630
DTSTAMP;VALUE=DATE-TIME:20260422T113424Z
UID:1d1030f83d8643c8aa9afd4cde4ff1a7@www.paeria.cat
CATEGORIES:Cultura,Música,Tots els públics,Públic
CREATED;VALUE=DATE-TIME:20230517T110655Z
DESCRIPTION:Proves dels semifinalistes de la XXV edició del Concurs \nA p
 artir de les 9.30 h i a partir de les 16 h \nSala de cambra\, Auditori Mun
 icipal Enric Granados.\nCada concursant tocarà un programa lliure que inc
 lou una peça del repertori Ricard Viñes (mínim 50 minuts – màxim 60 
 minuts)
LAST-MODIFIED;VALUE=DATE-TIME:20251104T135449Z
URL:https://www.paeria.cat/ca/actualitat/agenda/proves-semifinals-xxv-conc
 urs-internacional-de-piano-ricard-vines-1
END:VEVENT
END:VCALENDAR
