BEGIN:VCALENDAR
VERSION:2.0
PRODID:-//Plone.org//NONSGML plone.app.event//EN
X-WR-TIMEZONE:Europe/Madrid
BEGIN:VEVENT
SUMMARY:Proves semifinals XXV CONCURS INTERNACIONAL DE PIANO RICARD VIÑES
DTSTART;VALUE=DATE:20230628
DTEND;VALUE=DATE:20230629
DTSTAMP;VALUE=DATE-TIME:20260422T214848Z
UID:c3912c07f5294f05a4ec297af41e7ea4@www.paeria.cat
CATEGORIES:Cultura,Música,Tots els públics,Públic
CREATED;VALUE=DATE-TIME:20230517T110237Z
DESCRIPTION:Proves dels semifinalistes de la XXV edició del Concurs \nA p
 artir de les 9.30 h i a partir de les 16 h\nSala de cambra\, Auditori Muni
 cipal Enric Granados
LAST-MODIFIED;VALUE=DATE-TIME:20251104T135449Z
URL:https://www.paeria.cat/ca/actualitat/agenda/proves-semifinals-xxv-conc
 urs-internacional-de-piano-ricard-vines
END:VEVENT
END:VCALENDAR
