BEGIN:VCALENDAR
VERSION:2.0
PRODID:-//Plone.org//NONSGML plone.app.event//EN
X-WR-TIMEZONE:Europe/Madrid
BEGIN:VEVENT
SUMMARY:Punt d'observació +Biodiversitat. Els invertebrats del riu Segre 
 al seu pas per Lleida
DTSTART;TZID=Europe/Madrid;VALUE=DATE-TIME:20230506T100000
DTEND;TZID=Europe/Madrid;VALUE=DATE-TIME:20230506T140000
DTSTAMP;VALUE=DATE-TIME:20260420T085813Z
UID:9cddf1a7b390423fbbea8ae870fbb34a@www.paeria.cat
CATEGORIES:Itineraris i visites,Tallers i cursos
CREATED;VALUE=DATE-TIME:20230418T074307Z
DESCRIPTION:Ecoactivitats 2023
LAST-MODIFIED;VALUE=DATE-TIME:20230425T112123Z
URL:https://www.paeria.cat/ca/actualitat/agenda/punt-dobservacio-biodivers
 itat-els-invertebrats-del-riu-segre-al-seu-pas-per-lleida
END:VEVENT
BEGIN:VTIMEZONE
TZID:Europe/Madrid
X-LIC-LOCATION:Europe/Madrid
BEGIN:DAYLIGHT
DTSTART;VALUE=DATE-TIME:20230326T030000
TZNAME:CEST
TZOFFSETFROM:+0100
TZOFFSETTO:+0200
END:DAYLIGHT
END:VTIMEZONE
END:VCALENDAR
