BEGIN:VCALENDAR
VERSION:2.0
PRODID:-//Plone.org//NONSGML plone.app.event//EN
X-WR-TIMEZONE:Europe/Madrid
BEGIN:VEVENT
SUMMARY:Punt d'observació +Biodiversitat. NATURA al barri de Balàfia
DTSTART;TZID=Europe/Madrid;VALUE=DATE-TIME:20240413T100000
DTEND;TZID=Europe/Madrid;VALUE=DATE-TIME:20240413T130000
DTSTAMP;VALUE=DATE-TIME:20260422T135621Z
UID:39bb656a820647e4ab94766f8038ae94@www.paeria.cat
CATEGORIES:Tots els públics
CREATED;VALUE=DATE-TIME:20240410T112830Z
LAST-MODIFIED;VALUE=DATE-TIME:20240410T113925Z
URL:https://www.paeria.cat/ca/actualitat/agenda/punt-dobservacio-biodivers
 itat-natura-al-barri-de-balafia
END:VEVENT
BEGIN:VTIMEZONE
TZID:Europe/Madrid
X-LIC-LOCATION:Europe/Madrid
BEGIN:DAYLIGHT
DTSTART;VALUE=DATE-TIME:20240331T030000
TZNAME:CEST
TZOFFSETFROM:+0100
TZOFFSETTO:+0200
END:DAYLIGHT
END:VTIMEZONE
END:VCALENDAR
