BEGIN:VCALENDAR
VERSION:2.0
PRODID:-//Plone.org//NONSGML plone.app.event//EN
X-WR-TIMEZONE:Europe/Madrid
BEGIN:VEVENT
SUMMARY:Reconeixement a l’acció social i solidària a Lleida 2023
DTSTART;TZID=Europe/Madrid;VALUE=DATE-TIME:20230221T190000
DTSTAMP;VALUE=DATE-TIME:20260421T085717Z
UID:8426f74428644499b7b47fcdb1d5786e@www.paeria.cat
CATEGORIES:Ciutadania
CREATED;VALUE=DATE-TIME:20230203T080614Z
DESCRIPTION:Una de les prioritats de la Paeria és aconseguir i gestionar 
 la complicitat entre les entitats\, les organitzacions i el teixit econòm
 ic i emprenedor de Lleida per aportar energia\, capacitats i recursos per 
 a la transformació social de la ciutat
LAST-MODIFIED;VALUE=DATE-TIME:20230209T144150Z
URL:https://www.paeria.cat/ca/actualitat/agenda/reconeixement-a-l2019accio
 -social-i-solidaria-a-lleida-2023
END:VEVENT
BEGIN:VTIMEZONE
TZID:Europe/Madrid
X-LIC-LOCATION:Europe/Madrid
BEGIN:STANDARD
DTSTART;VALUE=DATE-TIME:20221030T020000
TZNAME:CET
TZOFFSETFROM:+0200
TZOFFSETTO:+0100
END:STANDARD
END:VTIMEZONE
END:VCALENDAR
