BEGIN:VCALENDAR
VERSION:2.0
PRODID:-//Plone.org//NONSGML plone.app.event//EN
X-WR-TIMEZONE:Europe/Madrid
BEGIN:VEVENT
SUMMARY:Romeu i Julieta i 5a Simfonia de Beethoven. Jove Orquestra de Pone
 nt
DTSTART;TZID=Europe/Madrid;VALUE=DATE-TIME:20250427T190000
DTEND;TZID=Europe/Madrid;VALUE=DATE-TIME:20250427T200000
DTSTAMP;VALUE=DATE-TIME:20260420T085559Z
UID:904c78b57c304e739fa78b225d50f1e4@www.paeria.cat
CATEGORIES:Cultura,Música,Públic
CREATED;VALUE=DATE-TIME:20250121T085728Z
LAST-MODIFIED;VALUE=DATE-TIME:20250124T095011Z
URL:https://www.paeria.cat/ca/actualitat/agenda/romeu-i-julieta-i-5a-simfo
 nia-de-beethoven-jove-orquestra-de-ponent
END:VEVENT
BEGIN:VTIMEZONE
TZID:Europe/Madrid
X-LIC-LOCATION:Europe/Madrid
BEGIN:DAYLIGHT
DTSTART;VALUE=DATE-TIME:20250330T030000
TZNAME:CEST
TZOFFSETFROM:+0100
TZOFFSETTO:+0200
END:DAYLIGHT
END:VTIMEZONE
END:VCALENDAR
