BEGIN:VCALENDAR
VERSION:2.0
PRODID:-//Plone.org//NONSGML plone.app.event//EN
X-WR-TIMEZONE:Europe/Madrid
BEGIN:VEVENT
SUMMARY:Ruta pel Molí de Sant Anastasi i la séquia de Fontanet
DTSTART;TZID=Europe/Madrid;VALUE=DATE-TIME:20231228T110000
DTEND;TZID=Europe/Madrid;VALUE=DATE-TIME:20231228T130000
DTSTAMP;VALUE=DATE-TIME:20260423T121531Z
UID:80f5f1225ae14eca9f24a57e909b15fe@www.paeria.cat
CATEGORIES:Itineraris i visites,Tots els públics
CREATED;VALUE=DATE-TIME:20231128T075542Z
DESCRIPTION:Recorregut guiat per l'antic molí fariner de la Bordeta\, on 
 veurem la maquinària i repassarem la seva història\, i per un tram de la
  sèquia de Fontanet\, que conserva parts d'origen medieval.
LAST-MODIFIED;VALUE=DATE-TIME:20251104T135449Z
URL:https://www.paeria.cat/ca/actualitat/agenda/ruta-pel-moli-de-sant-anas
 tasi-i-la-sequia-de-fontanet
END:VEVENT
BEGIN:VTIMEZONE
TZID:Europe/Madrid
X-LIC-LOCATION:Europe/Madrid
BEGIN:STANDARD
DTSTART;VALUE=DATE-TIME:20231029T020000
TZNAME:CET
TZOFFSETFROM:+0200
TZOFFSETTO:+0100
END:STANDARD
END:VTIMEZONE
END:VCALENDAR
