BEGIN:VCALENDAR
VERSION:2.0
PRODID:-//Plone.org//NONSGML plone.app.event//EN
X-WR-TIMEZONE:Europe/Madrid
BEGIN:VEVENT
SUMMARY:🌍 Exposició FEM PLANETA. DONES I CANVI CLIMÀTIC
DTSTART;VALUE=DATE:20250715
DTEND;VALUE=DATE:20250915
DTSTAMP;VALUE=DATE-TIME:20260422T191532Z
UID:cacaa28d7f8c43ed8a3216462d048a7c@www.paeria.cat
CATEGORIES:Exposicions
CREATED;VALUE=DATE-TIME:20250618T134327Z
DESCRIPTION:📣 Inauguració\, dia 21 de juliol a les 7 de la tarda |  La
  mostra convida a reflexionar sobre les conseqüències del canvi climàti
 c i del seu impacte desigual en dones i nenes arreu del món.\nA través d
 ’un recorregut fotogràfic\, la mostra visibilitza com la crisis climàt
 ica afecta especialment les comunitats de Colòmbia\, Guatemala\, Moçambi
 c\, el Sàhara\, l’Afganistan\, l’Iran i Catalunya\, evidenciant les v
 ulnerabilitats específiques que afronten les dones en aquests territoris.
LAST-MODIFIED;VALUE=DATE-TIME:20250818T090312Z
URL:https://www.paeria.cat/ca/actualitat/agenda/sala-d2019exposicions-de-l
 2019ajuntament-de-lleida-av-de-blondel-40-25002-lleida-exposicio-fem-plane
 ta-dona-i-canvi-climatic-del-15-de-juliol-al-30-de-setembre-de-2025-organi
 tza-creu-roja-lleida-ajuntament-de-lleida-la-mostra-convida-a-reflexionar-
 sobre-1
END:VEVENT
END:VCALENDAR
