BEGIN:VCALENDAR
VERSION:2.0
PRODID:-//Plone.org//NONSGML plone.app.event//EN
X-WR-TIMEZONE:Europe/Madrid
BEGIN:VEVENT
SUMMARY:Sam Sam Festival Lleida- Concert Reincidentes + Javier Sólo + Dca
 llaos A pelo
DTSTART;TZID=Europe/Madrid;VALUE=DATE-TIME:20241101T210000
DTSTAMP;VALUE=DATE-TIME:20260422T144848Z
UID:6f985498ddfb4d169c7148da318889ba@www.paeria.cat
CATEGORIES:Música,Cultura
CREATED;VALUE=DATE-TIME:20240723T154218Z
LAST-MODIFIED;VALUE=DATE-TIME:20240723T154540Z
URL:https://www.paeria.cat/ca/actualitat/agenda/sam-sam-festival-lleida-co
 ncert-reincidentes-javier-solo-dcallaos-a-pelo
END:VEVENT
BEGIN:VTIMEZONE
TZID:Europe/Madrid
X-LIC-LOCATION:Europe/Madrid
BEGIN:STANDARD
DTSTART;VALUE=DATE-TIME:20241027T020000
TZNAME:CET
TZOFFSETFROM:+0200
TZOFFSETTO:+0100
END:STANDARD
END:VTIMEZONE
END:VCALENDAR
