BEGIN:VCALENDAR
VERSION:2.0
PRODID:-//Plone.org//NONSGML plone.app.event//EN
X-WR-TIMEZONE:Europe/Madrid
BEGIN:VEVENT
SUMMARY:SANT PERE EL FARSANT. COL·LECTIU PEDANT A MISSA I REPICANT
DTSTART;TZID=Europe/Madrid;VALUE=DATE-TIME:20231118T200000
DTEND;TZID=Europe/Madrid;VALUE=DATE-TIME:20231118T213000
DTSTAMP;VALUE=DATE-TIME:20260422T132019Z
UID:2101efd4f35d4146aad6ba57bc038636@www.paeria.cat
CATEGORIES:Cultura
CREATED;VALUE=DATE-TIME:20230825T111109Z
LAST-MODIFIED;VALUE=DATE-TIME:20251104T135449Z
URL:https://www.paeria.cat/ca/actualitat/agenda/sant-pere-el-farsant-col-l
 ectiu-pedant-a-missa-i-repicant
END:VEVENT
BEGIN:VTIMEZONE
TZID:Europe/Madrid
X-LIC-LOCATION:Europe/Madrid
BEGIN:STANDARD
DTSTART;VALUE=DATE-TIME:20231029T020000
TZNAME:CET
TZOFFSETFROM:+0200
TZOFFSETTO:+0100
END:STANDARD
END:VTIMEZONE
END:VCALENDAR
