BEGIN:VCALENDAR
VERSION:2.0
PRODID:-//Plone.org//NONSGML plone.app.event//EN
X-WR-TIMEZONE:Europe/Madrid
BEGIN:VEVENT
SUMMARY:SEMPRE I ARA amb la poeta Laia Malo
DTSTART;TZID=Europe/Madrid;VALUE=DATE-TIME:20260428T190000
DTEND;TZID=Europe/Madrid;VALUE=DATE-TIME:20260428T203000
DTSTAMP;VALUE=DATE-TIME:20260425T053804Z
UID:007d9229955c4592b68e232520638ced@www.paeria.cat
CATEGORIES:Llibres i literatura,Cultura
CREATED;VALUE=DATE-TIME:20260306T121608Z
DESCRIPTION:Programa de Sant Jordi -- \n\nLleida se suma a  l’ANY CLEMEN
 TINA ARDERIU amb motiu dels 50 anys de la seva mort
LAST-MODIFIED;VALUE=DATE-TIME:20260415T085354Z
URL:https://www.paeria.cat/ca/actualitat/agenda/sempre-i-ara-amb-la-poeta-
 laia-malo
END:VEVENT
BEGIN:VTIMEZONE
TZID:Europe/Madrid
X-LIC-LOCATION:Europe/Madrid
BEGIN:DAYLIGHT
DTSTART;VALUE=DATE-TIME:20260329T030000
TZNAME:CEST
TZOFFSETFROM:+0100
TZOFFSETTO:+0200
END:DAYLIGHT
END:VTIMEZONE
END:VCALENDAR
