BEGIN:VCALENDAR
VERSION:2.0
PRODID:-//Plone.org//NONSGML plone.app.event//EN
X-WR-TIMEZONE:Europe/Madrid
BEGIN:VEVENT
SUMMARY:Sessió immersiva- Rocky Horror Show
DTSTART;TZID=Europe/Madrid;VALUE=DATE-TIME:20241031T220000
DTSTAMP;VALUE=DATE-TIME:20260423T160559Z
UID:1efe08d8b0ae40f0a7e3bb8ac1cef1c9@www.paeria.cat
RRULE:FREQ=DAILY;UNTIL=20241102T000000;INTERVAL=2
CATEGORIES:Audiovisuals,Cinema i vídeo,Cultura
CREATED;VALUE=DATE-TIME:20241029T064107Z
LAST-MODIFIED;VALUE=DATE-TIME:20241029T064357Z
URL:https://www.paeria.cat/ca/actualitat/agenda/sessio-immersiva-rocky-hor
 ror-show
END:VEVENT
BEGIN:VTIMEZONE
TZID:Europe/Madrid
X-LIC-LOCATION:Europe/Madrid
BEGIN:STANDARD
DTSTART;VALUE=DATE-TIME:20241027T020000
TZNAME:CET
TZOFFSETFROM:+0200
TZOFFSETTO:+0100
END:STANDARD
END:VTIMEZONE
END:VCALENDAR
