BEGIN:VCALENDAR
VERSION:2.0
PRODID:-//Plone.org//NONSGML plone.app.event//EN
X-WR-TIMEZONE:Europe/Madrid
BEGIN:VEVENT
SUMMARY:Setmana Cultural i Festa Major Barri Pius XII- Germanor
DTSTART;TZID=Europe/Madrid;VALUE=DATE-TIME:20240603T090000
DTSTAMP;VALUE=DATE-TIME:20260422T223148Z
UID:ab497d8e2f68421aaca4cf7f80cfafb9@www.paeria.cat
RRULE:FREQ=DAILY;UNTIL=20240609T000000
CATEGORIES:Cultura,Cultura popular
CREATED;VALUE=DATE-TIME:20240603T102850Z
LAST-MODIFIED;VALUE=DATE-TIME:20250514T122207Z
URL:https://www.paeria.cat/ca/actualitat/agenda/setmana-cultural-i-festa-m
 ajor-barri-pius-xii-germanor
END:VEVENT
BEGIN:VTIMEZONE
TZID:Europe/Madrid
X-LIC-LOCATION:Europe/Madrid
BEGIN:DAYLIGHT
DTSTART;VALUE=DATE-TIME:20240331T030000
TZNAME:CEST
TZOFFSETFROM:+0100
TZOFFSETTO:+0200
END:DAYLIGHT
END:VTIMEZONE
END:VCALENDAR
