BEGIN:VCALENDAR
VERSION:2.0
PRODID:-//Plone.org//NONSGML plone.app.event//EN
X-WR-TIMEZONE:Europe/Madrid
BEGIN:VEVENT
SUMMARY:Setmana de l'Antropologia
DTSTART;TZID=Europe/Madrid;VALUE=DATE-TIME:20231123T180000
DTEND;TZID=Europe/Madrid;VALUE=DATE-TIME:20231123T200000
DTSTAMP;VALUE=DATE-TIME:20260419T164040Z
UID:99215b56b8ea474ca357797ab21cf72b@www.paeria.cat
CATEGORIES:Xerrades i conferències,Ciutadania
CREATED;VALUE=DATE-TIME:20231121T113930Z
DESCRIPTION:Des de l'Institut Català d'Antropologia (ICA) i la UdL\, ens 
 fan arribar la Setmana de l'Antropologia\, que te lloc del 20 al 25 de nov
 embre a Barcelona\, Tarragona Girona i Lleida.\n\nA Lleida\, ens conviden 
 a assistir a la Taula Rodona: "Antropologia i cooperació al desenvolupame
 nt: transferències etnològiques". Un espai de reflexió sobre el paper q
 ue la professió antropològica pot jugar (i juga) en sectors com la coope
 ració internacional.\nA càrrec de: Núria Morelló Calafell (Observatori
 o por la Autonomía y los Derechos de los Pueblos Indígenas – OADPI)\, 
 Jordi Gascón Gutiérrez (UB\, ICA)\, Soledad Vieitez Cerdeño (Universida
 d de Granada).\nModera: Víctor Bretón Solo de Zaldívar (UdL).\n\nData i
  hora: Dijous 23 de novembre a les 18h.\nLloc: Sala de juntes 2on pis (Edi
 fici Rectorat)\, Universitat de Lleida.\nPl. de Víctor Siurana 1\, Lleida
 .\nEntrada lliure.\n\nMés informació a https://www.antropologia.cat/even
 t/setmana-de-lantropologia-viii-edicio/
LAST-MODIFIED;VALUE=DATE-TIME:20250514T121252Z
URL:https://www.paeria.cat/ca/actualitat/agenda/setmana-de-lantropologia
END:VEVENT
BEGIN:VTIMEZONE
TZID:Europe/Madrid
X-LIC-LOCATION:Europe/Madrid
BEGIN:STANDARD
DTSTART;VALUE=DATE-TIME:20231029T020000
TZNAME:CET
TZOFFSETFROM:+0200
TZOFFSETTO:+0100
END:STANDARD
END:VTIMEZONE
END:VCALENDAR
