BEGIN:VCALENDAR
VERSION:2.0
PRODID:-//Plone.org//NONSGML plone.app.event//EN
X-WR-TIMEZONE:Europe/Madrid
BEGIN:VEVENT
SUMMARY:Show Drag amb Oxy Tocina
DTSTART;TZID=Europe/Madrid;VALUE=DATE-TIME:20260306T193000
DTEND;TZID=Europe/Madrid;VALUE=DATE-TIME:20260306T200000
DTSTAMP;VALUE=DATE-TIME:20260422T140901Z
UID:bd870e01b1894b77a3736a1c5f47969f@www.paeria.cat
CATEGORIES:Audiovisuals,Ciutadania,Cultura,Joves,Adult
CREATED;VALUE=DATE-TIME:20260304T073143Z
DESCRIPTION:En el marc del Taller Drag que oferim cada divendres\, aquesta
  setmana gaudirem d’un espectacle drag gratuït amb l’artista lleidata
 na @oxy_tocina
LAST-MODIFIED;VALUE=DATE-TIME:20260305T092858Z
URL:https://www.paeria.cat/ca/actualitat/agenda/show-drag-2
END:VEVENT
BEGIN:VTIMEZONE
TZID:Europe/Madrid
X-LIC-LOCATION:Europe/Madrid
BEGIN:STANDARD
DTSTART;VALUE=DATE-TIME:20251026T020000
TZNAME:CET
TZOFFSETFROM:+0200
TZOFFSETTO:+0100
END:STANDARD
END:VTIMEZONE
END:VCALENDAR
