BEGIN:VCALENDAR
VERSION:2.0
PRODID:-//Plone.org//NONSGML plone.app.event//EN
X-WR-TIMEZONE:Europe/Madrid
BEGIN:VEVENT
SUMMARY:Som Cinema - Sessió inaugural
DTSTART;TZID=Europe/Madrid;VALUE=DATE-TIME:20231018T190000
DTSTAMP;VALUE=DATE-TIME:20260420T003851Z
UID:9f18a94c44554aeeb14f387824e53f7f@www.paeria.cat
CATEGORIES:Cinema i vídeo
CREATED;VALUE=DATE-TIME:20231010T085319Z
LAST-MODIFIED;VALUE=DATE-TIME:20251104T135449Z
URL:https://www.paeria.cat/ca/actualitat/agenda/som-cinema-sessio-inaugura
 l
END:VEVENT
BEGIN:VTIMEZONE
TZID:Europe/Madrid
X-LIC-LOCATION:Europe/Madrid
BEGIN:DAYLIGHT
DTSTART;VALUE=DATE-TIME:20230326T030000
TZNAME:CEST
TZOFFSETFROM:+0100
TZOFFSETTO:+0200
END:DAYLIGHT
END:VTIMEZONE
END:VCALENDAR
