BEGIN:VCALENDAR
VERSION:2.0
PRODID:-//Plone.org//NONSGML plone.app.event//EN
X-WR-TIMEZONE:Europe/Madrid
BEGIN:VEVENT
SUMMARY:Somnis de Nadal. Veus.kat
DTSTART;TZID=Europe/Madrid;VALUE=DATE-TIME:20251228T190000
DTEND;TZID=Europe/Madrid;VALUE=DATE-TIME:20251228T201500
DTSTAMP;VALUE=DATE-TIME:20260420T164443Z
UID:ac16a4073cda49dcb3a42b65ae952d79@www.paeria.cat
CATEGORIES:Cultura,Música
CREATED;VALUE=DATE-TIME:20250704T072431Z
LAST-MODIFIED;VALUE=DATE-TIME:20251212T132758Z
URL:https://www.paeria.cat/ca/actualitat/agenda/somnis-de-nadal-veus.kat
END:VEVENT
BEGIN:VTIMEZONE
TZID:Europe/Madrid
X-LIC-LOCATION:Europe/Madrid
BEGIN:STANDARD
DTSTART;VALUE=DATE-TIME:20251026T020000
TZNAME:CET
TZOFFSETFROM:+0200
TZOFFSETTO:+0100
END:STANDARD
END:VTIMEZONE
END:VCALENDAR
