BEGIN:VCALENDAR
VERSION:2.0
PRODID:-//Plone.org//NONSGML plone.app.event//EN
X-WR-TIMEZONE:Europe/Madrid
BEGIN:VEVENT
SUMMARY:Somnis del bosc\, amb Fem música
DTSTART;TZID=Europe/Madrid;VALUE=DATE-TIME:20260525T173000
DTEND;TZID=Europe/Madrid;VALUE=DATE-TIME:20260525T183000
DTSTAMP;VALUE=DATE-TIME:20260419T165932Z
UID:85c792b8fc234139a1f12c1fc07e0d27@www.paeria.cat
CATEGORIES:Llibres i literatura
CREATED;VALUE=DATE-TIME:20260414T094234Z
DESCRIPTION:Voleu com un ocell i sentiu la pluja en un bosc màgic ple de 
 sons i instrument sorprenents! Per a famílies amb nadons de 0 a 3 anys. I
 nscripció prèvia.
LAST-MODIFIED;VALUE=DATE-TIME:20260415T165129Z
URL:https://www.paeria.cat/ca/actualitat/agenda/somnis-del-bosc-amb-fem-mu
 sica
END:VEVENT
BEGIN:VTIMEZONE
TZID:Europe/Madrid
X-LIC-LOCATION:Europe/Madrid
BEGIN:DAYLIGHT
DTSTART;VALUE=DATE-TIME:20260329T030000
TZNAME:CEST
TZOFFSETFROM:+0100
TZOFFSETTO:+0200
END:DAYLIGHT
END:VTIMEZONE
END:VCALENDAR
