BEGIN:VCALENDAR
VERSION:2.0
PRODID:-//Plone.org//NONSGML plone.app.event//EN
X-WR-TIMEZONE:Europe/Madrid
BEGIN:VEVENT
SUMMARY:Taller+Biodiversitat. Cens d'ocells hivernants als espais humits d
 e Lleida
DTSTART;TZID=Europe/Madrid;VALUE=DATE-TIME:20240113T090000
DTEND;TZID=Europe/Madrid;VALUE=DATE-TIME:20240113T130000
DTSTAMP;VALUE=DATE-TIME:20260423T103053Z
UID:025a893e8cdf4067a7682d776cb69017@www.paeria.cat
CREATED;VALUE=DATE-TIME:20240112T114615Z
DESCRIPTION:Ecoactivitats 2024
LAST-MODIFIED;VALUE=DATE-TIME:20240112T114724Z
URL:https://www.paeria.cat/ca/actualitat/agenda/taller-biodiversitat-cens-
 docells-hivernants-als-espais-humits-de-lleida
END:VEVENT
BEGIN:VTIMEZONE
TZID:Europe/Madrid
X-LIC-LOCATION:Europe/Madrid
BEGIN:STANDARD
DTSTART;VALUE=DATE-TIME:20231029T020000
TZNAME:CET
TZOFFSETFROM:+0200
TZOFFSETTO:+0100
END:STANDARD
END:VTIMEZONE
END:VCALENDAR
