BEGIN:VCALENDAR
VERSION:2.0
PRODID:-//Plone.org//NONSGML plone.app.event//EN
X-WR-TIMEZONE:Europe/Madrid
BEGIN:VEVENT
SUMMARY:Taller. Cultiu de l'hort en bancals i sense llaurar. Quins avantat
 ges? Com preparar-los? Com es cultiva?
DTSTART;TZID=Europe/Madrid;VALUE=DATE-TIME:20240323T100000
DTEND;TZID=Europe/Madrid;VALUE=DATE-TIME:20240323T130000
DTSTAMP;VALUE=DATE-TIME:20260422T185541Z
UID:4bcfa4627a954f3a81e600c908a755df@www.paeria.cat
CATEGORIES:Tallers i cursos
CREATED;VALUE=DATE-TIME:20240311T111607Z
DESCRIPTION:Ecoactivitats 2024
LAST-MODIFIED;VALUE=DATE-TIME:20240318T111225Z
URL:https://www.paeria.cat/ca/actualitat/agenda/taller-cultiu-de-lhort-en-
 bancals-i-sense-llaurar-quins-avantatges-com-preparar-los-com-es-cultiva
END:VEVENT
BEGIN:VTIMEZONE
TZID:Europe/Madrid
X-LIC-LOCATION:Europe/Madrid
BEGIN:STANDARD
DTSTART;VALUE=DATE-TIME:20231029T020000
TZNAME:CET
TZOFFSETFROM:+0200
TZOFFSETTO:+0100
END:STANDARD
END:VTIMEZONE
END:VCALENDAR
