BEGIN:VCALENDAR
VERSION:2.0
PRODID:-//Plone.org//NONSGML plone.app.event//EN
X-WR-TIMEZONE:Europe/Madrid
BEGIN:VEVENT
SUMMARY:Taller infantil Joan Oró i els secrets de l'univers
DTSTART;TZID=Europe/Madrid;VALUE=DATE-TIME:20230706T100000
DTEND;TZID=Europe/Madrid;VALUE=DATE-TIME:20230706T110000
DTSTAMP;VALUE=DATE-TIME:20260422T133852Z
UID:a501a6a242b044c0bde5eb15e53f89c9@www.paeria.cat
CATEGORIES:Tallers i cursos,Joan Oró,Familiar
CREATED;VALUE=DATE-TIME:20230606T063200Z
DESCRIPTION:Taller per a infants de 5 a 9 anys on a partir de diferents ex
 periències descobrirem les recerques de Joan Oró. Activitat en forma de 
 gimcana amb diferents proves. Per a famílies.
LAST-MODIFIED;VALUE=DATE-TIME:20251104T135449Z
URL:https://www.paeria.cat/ca/actualitat/agenda/taller-infantil-joan-oro-i
 -els-secrets-de-lunivers
END:VEVENT
BEGIN:VTIMEZONE
TZID:Europe/Madrid
X-LIC-LOCATION:Europe/Madrid
BEGIN:DAYLIGHT
DTSTART;VALUE=DATE-TIME:20230326T030000
TZNAME:CEST
TZOFFSETFROM:+0100
TZOFFSETTO:+0200
END:DAYLIGHT
END:VTIMEZONE
END:VCALENDAR
