BEGIN:VCALENDAR
VERSION:2.0
PRODID:-//Plone.org//NONSGML plone.app.event//EN
X-WR-TIMEZONE:Europe/Madrid
BEGIN:VEVENT
SUMMARY:PLACES EXHAURIDES . TALLER  LA VEU I EL CANT POPULAR. GÈNERES DE
 L SUD\, a càrrec d’Arturo Gaya Iglesias. Activitats 360
DTSTART;TZID=Europe/Madrid;VALUE=DATE-TIME:20260220T180000
DTEND;TZID=Europe/Madrid;VALUE=DATE-TIME:20260220T210000
DTSTAMP;VALUE=DATE-TIME:20260422T134714Z
UID:24daefd4b82b4a8bb66be466f6ac7bad@www.paeria.cat
CATEGORIES:Cultura,Tallers i cursos,Música,Cultura popular,Tots els públ
 ics
CREATED;VALUE=DATE-TIME:20251202T085219Z
DESCRIPTION:Taller obert a tots els públics. Inscripció gratuïta.
LAST-MODIFIED;VALUE=DATE-TIME:20260216T103515Z
URL:https://www.paeria.cat/ca/actualitat/agenda/taller-la-veu-i-el-cant-po
 pular-generes-del-sud-a-carrec-d2019arturo-gaya-iglesias-activitats-360
END:VEVENT
BEGIN:VTIMEZONE
TZID:Europe/Madrid
X-LIC-LOCATION:Europe/Madrid
BEGIN:STANDARD
DTSTART;VALUE=DATE-TIME:20251026T020000
TZNAME:CET
TZOFFSETFROM:+0200
TZOFFSETTO:+0100
END:STANDARD
END:VTIMEZONE
END:VCALENDAR
