BEGIN:VCALENDAR
VERSION:2.0
PRODID:-//Plone.org//NONSGML plone.app.event//EN
X-WR-TIMEZONE:Europe/Madrid
BEGIN:VEVENT
SUMMARY:Taller. Preparem el planter de l'hort a partir de compost i cultiv
 em varietats tradicionals
DTSTART;TZID=Europe/Madrid;VALUE=DATE-TIME:20230225T100000
DTEND;TZID=Europe/Madrid;VALUE=DATE-TIME:20230225T120000
DTSTAMP;VALUE=DATE-TIME:20260420T014543Z
UID:e6b01e40039f4478b78150269b79f7cf@www.paeria.cat
CATEGORIES:Tallers i cursos
CREATED;VALUE=DATE-TIME:20230220T121838Z
DESCRIPTION:Ecoactivitats 2023
LAST-MODIFIED;VALUE=DATE-TIME:20230223T124858Z
URL:https://www.paeria.cat/ca/actualitat/agenda/taller-preparem-el-planter
 -de-lhort-a-partir-de-compost-i-cultivem-varietats-tradicionals
END:VEVENT
BEGIN:VTIMEZONE
TZID:Europe/Madrid
X-LIC-LOCATION:Europe/Madrid
BEGIN:STANDARD
DTSTART;VALUE=DATE-TIME:20221030T020000
TZNAME:CET
TZOFFSETFROM:+0200
TZOFFSETTO:+0100
END:STANDARD
END:VTIMEZONE
END:VCALENDAR
