BEGIN:VCALENDAR
VERSION:2.0
PRODID:-//Plone.org//NONSGML plone.app.event//EN
X-WR-TIMEZONE:Europe/Madrid
BEGIN:VEVENT
SUMMARY:Taller/Xerrada: Coneix el LinkedIn
DTSTART;TZID=Europe/Madrid;VALUE=DATE-TIME:20260121T173000
DTEND;TZID=Europe/Madrid;VALUE=DATE-TIME:20260121T193000
DTSTAMP;VALUE=DATE-TIME:20260421T232106Z
UID:3c655308fe8c4bd191bfd725fb33bda2@www.paeria.cat
CATEGORIES:Xerrades i conferències,HÔME,Ocupació,Tallers i cursos,Joves
CREATED;VALUE=DATE-TIME:20260112T131600Z
DESCRIPTION:Com crear un perfil a LinkedIn i com gestionar-lo per poder fe
 r recerca de feina en aquesta xarxa social.
LAST-MODIFIED;VALUE=DATE-TIME:20260202T123054Z
URL:https://www.paeria.cat/ca/actualitat/agenda/taller-xerrada-coneix-el-l
 inkedin
END:VEVENT
BEGIN:VTIMEZONE
TZID:Europe/Madrid
X-LIC-LOCATION:Europe/Madrid
BEGIN:STANDARD
DTSTART;VALUE=DATE-TIME:20251026T020000
TZNAME:CET
TZOFFSETFROM:+0200
TZOFFSETTO:+0100
END:STANDARD
END:VTIMEZONE
END:VCALENDAR
