BEGIN:VCALENDAR
VERSION:2.0
PRODID:-//Plone.org//NONSGML plone.app.event//EN
X-WR-TIMEZONE:Europe/Madrid
BEGIN:VEVENT
SUMMARY:Tallers - Escolta\, descobreix i crea la teva música
DTSTART;TZID=Europe/Madrid;VALUE=DATE-TIME:20241002T093000
DTSTAMP;VALUE=DATE-TIME:20260423T073113Z
UID:8394dee805024f0283ef75cdc85ff6a9@www.paeria.cat
CATEGORIES:Tallers i cursos,Música,Cultura
CREATED;VALUE=DATE-TIME:20240724T161440Z
LAST-MODIFIED;VALUE=DATE-TIME:20240906T065208Z
URL:https://www.paeria.cat/ca/actualitat/agenda/tallers-escolta-descobreix
 -i-crea-la-teva-musica/2024-10-02
END:VEVENT
BEGIN:VTIMEZONE
TZID:Europe/Madrid
X-LIC-LOCATION:Europe/Madrid
BEGIN:DAYLIGHT
DTSTART;VALUE=DATE-TIME:20240331T030000
TZNAME:CEST
TZOFFSETFROM:+0100
TZOFFSETTO:+0200
END:DAYLIGHT
END:VTIMEZONE
END:VCALENDAR
