BEGIN:VCALENDAR
VERSION:2.0
PRODID:-//Plone.org//NONSGML plone.app.event//EN
X-WR-TIMEZONE:Europe/Madrid
BEGIN:VEVENT
SUMMARY:Tallers per a petits naturalistes a la Mitjana
DTSTART;TZID=Europe/Madrid;VALUE=DATE-TIME:20230403T100000
DTEND;TZID=Europe/Madrid;VALUE=DATE-TIME:20230403T130000
DTSTAMP;VALUE=DATE-TIME:20260422T133850Z
UID:fe1ce589d51e4e06acf077231a468899@www.paeria.cat
RRULE:FREQ=DAILY;UNTIL=20230405T000000
EXDATE;TZID=Europe/Madrid:20230406T000000,20230407T000000
CATEGORIES:Infantil,Tallers i cursos
CREATED;VALUE=DATE-TIME:20230320T140257Z
DESCRIPTION:Ecoactivitats
LAST-MODIFIED;VALUE=DATE-TIME:20230403T101728Z
URL:https://www.paeria.cat/ca/actualitat/agenda/tallers-per-a-petits-natur
 alistes-a-la-mitjana
END:VEVENT
BEGIN:VTIMEZONE
TZID:Europe/Madrid
X-LIC-LOCATION:Europe/Madrid
BEGIN:DAYLIGHT
DTSTART;VALUE=DATE-TIME:20230326T030000
TZNAME:CEST
TZOFFSETFROM:+0100
TZOFFSETTO:+0200
END:DAYLIGHT
END:VTIMEZONE
END:VCALENDAR
