BEGIN:VCALENDAR
VERSION:2.0
PRODID:-//Plone.org//NONSGML plone.app.event//EN
X-WR-TIMEZONE:Europe/Madrid
BEGIN:VEVENT
SUMMARY:Taula Rodona- Eines d'alfabetització a l'edat mitjana: a l'abast 
 de pocs\, però desitjades per molt
DTSTART;TZID=Europe/Madrid;VALUE=DATE-TIME:20241114T180000
DTSTAMP;VALUE=DATE-TIME:20260423T102850Z
UID:c3a2f387ed9a4511aec026ef7e53544e@www.paeria.cat
CATEGORIES:Cultura,Xerrades i conferències
CREATED;VALUE=DATE-TIME:20241108T090932Z
LAST-MODIFIED;VALUE=DATE-TIME:20250514T130149Z
URL:https://www.paeria.cat/ca/actualitat/agenda/taula-rodona-eines-dalfabe
 titzacio-a-ledat-mitjana-a-labast-de-pocs-pero-desitjades-per-molt
END:VEVENT
BEGIN:VTIMEZONE
TZID:Europe/Madrid
X-LIC-LOCATION:Europe/Madrid
BEGIN:STANDARD
DTSTART;VALUE=DATE-TIME:20241027T020000
TZNAME:CET
TZOFFSETFROM:+0200
TZOFFSETTO:+0100
END:STANDARD
END:VTIMEZONE
END:VCALENDAR
