BEGIN:VCALENDAR
VERSION:2.0
PRODID:-//Plone.org//NONSGML plone.app.event//EN
X-WR-TIMEZONE:Europe/Madrid
BEGIN:VEVENT
SUMMARY:Taula rodona- Literatura i art en el dol perinatal
DTSTART;TZID=Europe/Madrid;VALUE=DATE-TIME:20240425T180000
DTSTAMP;VALUE=DATE-TIME:20260423T052034Z
UID:1ab07ebea5334f87bea6598c980c07cf@www.paeria.cat
CATEGORIES:Cultura,Xerrades i conferències
CREATED;VALUE=DATE-TIME:20240412T164534Z
LAST-MODIFIED;VALUE=DATE-TIME:20250514T130737Z
URL:https://www.paeria.cat/ca/actualitat/agenda/taula-rodona-literatura-i-
 art-en-el-dol-perinatal
END:VEVENT
BEGIN:VTIMEZONE
TZID:Europe/Madrid
X-LIC-LOCATION:Europe/Madrid
BEGIN:DAYLIGHT
DTSTART;VALUE=DATE-TIME:20240331T030000
TZNAME:CEST
TZOFFSETFROM:+0100
TZOFFSETTO:+0200
END:DAYLIGHT
END:VTIMEZONE
END:VCALENDAR
