BEGIN:VCALENDAR
VERSION:2.0
PRODID:-//Plone.org//NONSGML plone.app.event//EN
X-WR-TIMEZONE:Europe/Madrid
BEGIN:VEVENT
SUMMARY:Taula rodona- Repensant la producció d'aliments del futur: sosten
 ibilitat\, seguretat i salut
DTSTART;TZID=Europe/Madrid;VALUE=DATE-TIME:20241015T180000
DTSTAMP;VALUE=DATE-TIME:20260422T191329Z
UID:33fd1798fa0344d2a41c7daf6f15d664@www.paeria.cat
CATEGORIES:Cultura,Xerrades i conferències
CREATED;VALUE=DATE-TIME:20241014T091738Z
LAST-MODIFIED;VALUE=DATE-TIME:20250514T130149Z
URL:https://www.paeria.cat/ca/actualitat/agenda/taula-rodona-repensant-la-
 produccio-daliments-del-futur-sostenibilitat-seguretat-i-salut
END:VEVENT
BEGIN:VTIMEZONE
TZID:Europe/Madrid
X-LIC-LOCATION:Europe/Madrid
BEGIN:DAYLIGHT
DTSTART;VALUE=DATE-TIME:20240331T030000
TZNAME:CEST
TZOFFSETFROM:+0100
TZOFFSETTO:+0200
END:DAYLIGHT
END:VTIMEZONE
END:VCALENDAR
