BEGIN:VCALENDAR
VERSION:2.0
PRODID:-//Plone.org//NONSGML plone.app.event//EN
X-WR-TIMEZONE:Europe/Madrid
BEGIN:VEVENT
SUMMARY:Teatre- L’HOROSCOP\, EN PIPI MAX I ALTRES TRAUMES D’INFÀNCIA
DTSTART;TZID=Europe/Madrid;VALUE=DATE-TIME:20240321T203000
DTSTAMP;VALUE=DATE-TIME:20260423T011425Z
UID:0df2f61b15714cf18095bb14fd0b1acd@www.paeria.cat
CATEGORIES:Teatre,Cultura
CREATED;VALUE=DATE-TIME:20240318T161935Z
LAST-MODIFIED;VALUE=DATE-TIME:20240318T162244Z
URL:https://www.paeria.cat/ca/actualitat/agenda/teatre-l2019horoscop-en-pi
 pi-max-i-altres-trumes-d2019infancia
END:VEVENT
BEGIN:VTIMEZONE
TZID:Europe/Madrid
X-LIC-LOCATION:Europe/Madrid
BEGIN:STANDARD
DTSTART;VALUE=DATE-TIME:20231029T020000
TZNAME:CET
TZOFFSETFROM:+0200
TZOFFSETTO:+0100
END:STANDARD
END:VTIMEZONE
END:VCALENDAR
