BEGIN:VCALENDAR
VERSION:2.0
PRODID:-//Plone.org//NONSGML plone.app.event//EN
X-WR-TIMEZONE:Europe/Madrid
BEGIN:VEVENT
SUMMARY:Tertúlia i lectura de poemes- L'anarquisme i la poesia. Joan Salv
 at-Papasseit
DTSTART;TZID=Europe/Madrid;VALUE=DATE-TIME:20241119T180000
DTSTAMP;VALUE=DATE-TIME:20260422T170443Z
UID:18b6f2e24c8d448fbaa887a5e2cf7a5f@www.paeria.cat
CATEGORIES:Cultura,Llibres i literatura
CREATED;VALUE=DATE-TIME:20241116T152004Z
LAST-MODIFIED;VALUE=DATE-TIME:20250514T125147Z
URL:https://www.paeria.cat/ca/actualitat/agenda/tertulia-i-lectura-de-poem
 es-lanarquisme-i-la-poesia-joan-salvat-papasseit
END:VEVENT
BEGIN:VTIMEZONE
TZID:Europe/Madrid
X-LIC-LOCATION:Europe/Madrid
BEGIN:STANDARD
DTSTART;VALUE=DATE-TIME:20241027T020000
TZNAME:CET
TZOFFSETFROM:+0200
TZOFFSETTO:+0100
END:STANDARD
END:VTIMEZONE
END:VCALENDAR
