BEGIN:VCALENDAR
VERSION:2.0
PRODID:-//Plone.org//NONSGML plone.app.event//EN
X-WR-TIMEZONE:Europe/Madrid
BEGIN:VEVENT
SUMMARY:"Tot el que no es menja. Aprofitant els aliments de manera solidà
 ria"
DTSTART;VALUE=DATE:20230419
DTEND;VALUE=DATE:20230420
DTSTAMP;VALUE=DATE-TIME:20260420T060529Z
UID:895d9e96a4f945ff899d63b875b3240a@www.paeria.cat
CATEGORIES:Cultura,Tots els públics,Exposicions
CREATED;VALUE=DATE-TIME:20230419T135550Z
DESCRIPTION:El Banc dels Aliments i el Departament d’Acció Climàtica\,
  Alimentació i Agenda Rural de la Generalitat de Catalunya amb l’exposi
 ció TOT EL QUE NO ES MENJA vol sensibilitzar sobre el malbaratament siste
 màtic d’aliments\, la tasca d’aprofitament que duen a terme els bancs
  dels aliments i la necessitat de canviar els nostres models de producció
 \, de consum i d’accés a l’alimentació per prevenir i reduir aquesta
  problemàtica.
LAST-MODIFIED;VALUE=DATE-TIME:20251104T135449Z
URL:https://www.paeria.cat/ca/actualitat/agenda/tot-el-que-no-es-menja-apr
 ofitant-els-aliments-de-manera-solidaria
END:VEVENT
END:VCALENDAR
