BEGIN:VCALENDAR
VERSION:2.0
PRODID:-//Plone.org//NONSGML plone.app.event//EN
X-WR-TIMEZONE:Europe/Madrid
BEGIN:VEVENT
SUMMARY:¡Vaya palo! Còrnia – Associació per a les Arts Escèniques
DTSTART;TZID=Europe/Madrid;VALUE=DATE-TIME:20230602T200000
DTEND;TZID=Europe/Madrid;VALUE=DATE-TIME:20230602T210000
DTSTAMP;VALUE=DATE-TIME:20260423T052032Z
UID:f86f71cd94384d1fa0c195def9d6b505@www.paeria.cat
CREATED;VALUE=DATE-TIME:20230530T083506Z
LAST-MODIFIED;VALUE=DATE-TIME:20240416T110019Z
URL:https://www.paeria.cat/ca/actualitat/agenda/vaya-palo-cornia-2013-asso
 ciacio-per-a-les-arts-esceniques-1
END:VEVENT
BEGIN:VTIMEZONE
TZID:Europe/Madrid
X-LIC-LOCATION:Europe/Madrid
BEGIN:DAYLIGHT
DTSTART;VALUE=DATE-TIME:20230326T030000
TZNAME:CEST
TZOFFSETFROM:+0100
TZOFFSETTO:+0200
END:DAYLIGHT
END:VTIMEZONE
END:VCALENDAR
