BEGIN:VCALENDAR
VERSION:2.0
PRODID:-//Plone.org//NONSGML plone.app.event//EN
X-WR-TIMEZONE:Europe/Madrid
BEGIN:VEVENT
SUMMARY:VESPRES EN VERS - Juanjo Manau amb el recital Temps per compartir
DTSTART;TZID=Europe/Madrid;VALUE=DATE-TIME:20250917T190000
DTEND;TZID=Europe/Madrid;VALUE=DATE-TIME:20250917T200000
DTSTAMP;VALUE=DATE-TIME:20260420T142642Z
UID:80090868ae2c4cf5b7ff0cf9f80a8f07@www.paeria.cat
CATEGORIES:Llibres i literatura,Cultura
CREATED;VALUE=DATE-TIME:20250618T093748Z
DESCRIPTION:X Cicle de recitals poètics a Lleida | 2025
LAST-MODIFIED;VALUE=DATE-TIME:20250915T090225Z
URL:https://www.paeria.cat/ca/actualitat/agenda/vespres-en-vers-juanjo-man
 au-amb-el-recital-temps-per-compartir
END:VEVENT
BEGIN:VTIMEZONE
TZID:Europe/Madrid
X-LIC-LOCATION:Europe/Madrid
BEGIN:DAYLIGHT
DTSTART;VALUE=DATE-TIME:20250330T030000
TZNAME:CEST
TZOFFSETFROM:+0100
TZOFFSETTO:+0200
END:DAYLIGHT
END:VTIMEZONE
END:VCALENDAR
