BEGIN:VCALENDAR
VERSION:2.0
PRODID:-//Plone.org//NONSGML plone.app.event//EN
X-WR-TIMEZONE:Europe/Madrid
BEGIN:VEVENT
SUMMARY:VEUS DESENTERRADES. UNA MIRADA A LES FOSSES DE LA GUERRA CIVIL
DTSTART;TZID=Europe/Madrid;VALUE=DATE-TIME:20230518T190000
DTSTAMP;VALUE=DATE-TIME:20260420T023602Z
UID:99b9a246ae244a50b9e7b6fd1c6775c5@www.paeria.cat
CATEGORIES:Xerrades i conferències
CREATED;VALUE=DATE-TIME:20230509T071804Z
DESCRIPTION:Debats de Memòria
LAST-MODIFIED;VALUE=DATE-TIME:20250514T130709Z
URL:https://www.paeria.cat/ca/actualitat/agenda/veus-desenterrades-una-mir
 ada-a-les-fosses-de-la-guerra-civil
END:VEVENT
BEGIN:VTIMEZONE
TZID:Europe/Madrid
X-LIC-LOCATION:Europe/Madrid
BEGIN:DAYLIGHT
DTSTART;VALUE=DATE-TIME:20230326T030000
TZNAME:CEST
TZOFFSETFROM:+0100
TZOFFSETTO:+0200
END:DAYLIGHT
END:VTIMEZONE
END:VCALENDAR
