BEGIN:VCALENDAR
VERSION:2.0
PRODID:-//Plone.org//NONSGML plone.app.event//EN
X-WR-TIMEZONE:Europe/Madrid
BEGIN:VEVENT
SUMMARY:Visita a l'exposició a càrrec d'Almudena Lobera\, artista\,  i T
 iago de Abreu Pinto\, comissari.
DTSTART;VALUE=DATE:20250713
DTEND;VALUE=DATE:20250714
DTSTAMP;VALUE=DATE-TIME:20260422T184849Z
UID:333eebf1f33b4da4b1a91e1f6ae3fcd1@www.paeria.cat
CREATED;VALUE=DATE-TIME:20250709T090620Z
DESCRIPTION:Visita a la mostra “Secuencia plano secuencia” produïda p
 er Centro Centro (Madrid) de la mà de la seva creadora Almudena Lobera i 
 el seu comissari Tiago Abreu.
LAST-MODIFIED;VALUE=DATE-TIME:20250709T090946Z
URL:https://www.paeria.cat/ca/actualitat/agenda/visita-a-lexposicio-a-carr
 ec-dalmudena-lobera-artista-i-tiago-de-abreu-pinto-comissari-1
END:VEVENT
END:VCALENDAR
