BEGIN:VCALENDAR
VERSION:2.0
PRODID:-//Plone.org//NONSGML plone.app.event//EN
X-WR-TIMEZONE:Europe/Madrid
BEGIN:VEVENT
SUMMARY:Visita a una instal·lació fotovoltaica d'autoconsum amb emmagatz
 ematge
DTSTART;TZID=Europe/Madrid;VALUE=DATE-TIME:20261018T110000
DTEND;TZID=Europe/Madrid;VALUE=DATE-TIME:20261018T130000
DTSTAMP;VALUE=DATE-TIME:20260422T134054Z
UID:aec308bbcbfe44269ba888431a91c6da@www.paeria.cat
CATEGORIES:Itineraris i visites,Adult
CREATED;VALUE=DATE-TIME:20260408T112835Z
DESCRIPTION:Ecoactivitats 2026
LAST-MODIFIED;VALUE=DATE-TIME:20260408T112942Z
URL:https://www.paeria.cat/ca/actualitat/agenda/visita-a-una-instal-lacio-
 fotovoltaica-dautoconsum-amb-emmagatzematge
END:VEVENT
BEGIN:VTIMEZONE
TZID:Europe/Madrid
X-LIC-LOCATION:Europe/Madrid
BEGIN:DAYLIGHT
DTSTART;VALUE=DATE-TIME:20260329T030000
TZNAME:CEST
TZOFFSETFROM:+0100
TZOFFSETTO:+0200
END:DAYLIGHT
END:VTIMEZONE
END:VCALENDAR
