BEGIN:VCALENDAR
VERSION:2.0
PRODID:-//Plone.org//NONSGML plone.app.event//EN
X-WR-TIMEZONE:Europe/Madrid
BEGIN:VEVENT
SUMMARY:📣📣 Visita comentada a l’exposició LLUM A L'ÀNIMA. PALMIR
 A JAQUETTI (1895-1963). A càrrec de Carme Oriol\, comissària de l’Any 
 Jaquetti
DTSTART;TZID=Europe/Madrid;VALUE=DATE-TIME:20250312T180000
DTEND;TZID=Europe/Madrid;VALUE=DATE-TIME:20250312T190000
DTSTAMP;VALUE=DATE-TIME:20260423T022759Z
UID:328aeda6896e4e0e9a6d847f0bf8ce4e@www.paeria.cat
CATEGORIES:Cultura,Cultura popular,Exposicions
CREATED;VALUE=DATE-TIME:20250225T131138Z
DESCRIPTION:📣📣 Visita lliure i gratuïta sense inscripció prèvia :
 :: L’any 2020 la Generalitat de Catalunya commemorava el 125è Aniversar
 i del naixement de Palmira Jaquetti. Carme Oriol Carazo\, investigadora de
 l Departament de Filologia Catalana de la Universitat Rovira i Virgili i c
 omissària de l’Any Jaquetti\, realitzarà una visita comentada al volta
 nt de l’exposició dedicada a una de les autores més polifacètiques i 
 prolífiques del segle XX.\n L’obra de Palmira Jaquetti abasta camps tan
  diversos com la traducció\, la divulgació científica\, la creació po
 ètica\, la composició i el folklore.
LAST-MODIFIED;VALUE=DATE-TIME:20250310T100650Z
URL:https://www.paeria.cat/ca/actualitat/agenda/visita-comentada-a-l2019ex
 posicio-llum-a-lanima-palmira-jaquetti-1895-1963-a-carrec-de-carme-oriol-c
 omissaria-de-l2019any-jaquetti
END:VEVENT
BEGIN:VTIMEZONE
TZID:Europe/Madrid
X-LIC-LOCATION:Europe/Madrid
BEGIN:STANDARD
DTSTART;VALUE=DATE-TIME:20241027T020000
TZNAME:CET
TZOFFSETFROM:+0200
TZOFFSETTO:+0100
END:STANDARD
END:VTIMEZONE
END:VCALENDAR
