BEGIN:VCALENDAR
VERSION:2.0
PRODID:-//Plone.org//NONSGML plone.app.event//EN
X-WR-TIMEZONE:Europe/Madrid
BEGIN:VEVENT
SUMMARY:Visita en família: Miralls
DTSTART;TZID=Europe/Madrid;VALUE=DATE-TIME:20231224T120000
DTEND;TZID=Europe/Madrid;VALUE=DATE-TIME:20231224T130000
DTSTAMP;VALUE=DATE-TIME:20260422T150435Z
UID:a279d2ab82da42b985730169f7c6543e@www.paeria.cat
CATEGORIES:Itineraris i visites,Exposicions,Familiar
CREATED;VALUE=DATE-TIME:20231128T131442Z
LAST-MODIFIED;VALUE=DATE-TIME:20250514T121847Z
URL:https://www.paeria.cat/ca/actualitat/agenda/visita-en-familia-miralls/
 2023-12-24
END:VEVENT
BEGIN:VTIMEZONE
TZID:Europe/Madrid
X-LIC-LOCATION:Europe/Madrid
BEGIN:STANDARD
DTSTART;VALUE=DATE-TIME:20231029T020000
TZNAME:CET
TZOFFSETFROM:+0200
TZOFFSETTO:+0100
END:STANDARD
END:VTIMEZONE
END:VCALENDAR
