BEGIN:VCALENDAR
VERSION:2.0
PRODID:-//Plone.org//NONSGML plone.app.event//EN
X-WR-TIMEZONE:Europe/Madrid
BEGIN:VEVENT
SUMMARY:Xerrada col·loqui  “Mares i filles” entorn la novel·la  “M
 i madre y su amante francés”  de l’escriptora Glòria Martín
DTSTART;TZID=Europe/Madrid;VALUE=DATE-TIME:20250423T173000
DTEND;TZID=Europe/Madrid;VALUE=DATE-TIME:20250423T183000
DTSTAMP;VALUE=DATE-TIME:20260422T134100Z
UID:aca5e5066e2741d6bfd79b15d91f8f5e@www.paeria.cat
CATEGORIES:Dona,Xerrades i conferències,Adult,Llibres i literatura
CREATED;VALUE=DATE-TIME:20250422T125851Z
LAST-MODIFIED;VALUE=DATE-TIME:20250514T070239Z
URL:https://www.paeria.cat/ca/actualitat/agenda/xerrada-col-loqui-201cmare
 s-i-filles201d-entorn-la-novel-la-201cmi-madre-y-su-amante-frances201d-de-
 l2019escriptora-gloria-martin
END:VEVENT
BEGIN:VTIMEZONE
TZID:Europe/Madrid
X-LIC-LOCATION:Europe/Madrid
BEGIN:DAYLIGHT
DTSTART;VALUE=DATE-TIME:20250330T030000
TZNAME:CEST
TZOFFSETFROM:+0100
TZOFFSETTO:+0200
END:DAYLIGHT
END:VTIMEZONE
END:VCALENDAR
