BEGIN:VCALENDAR
VERSION:2.0
PRODID:-//Plone.org//NONSGML plone.app.event//EN
X-WR-TIMEZONE:Europe/Madrid
BEGIN:VEVENT
SUMMARY:Xerrada- Hollywood a Catalunya i el turisme cinematogràfic
DTSTART;TZID=Europe/Madrid;VALUE=DATE-TIME:20240522T190000
DTSTAMP;VALUE=DATE-TIME:20260423T071448Z
UID:f3e37a55eeb549af8e6a4d819cd1a329@www.paeria.cat
CATEGORIES:Cultura,Cinema i vídeo,Xerrades i conferències
CREATED;VALUE=DATE-TIME:20240515T161200Z
LAST-MODIFIED;VALUE=DATE-TIME:20250514T130737Z
URL:https://www.paeria.cat/ca/actualitat/agenda/xerrada-hollywood-a-catalu
 nya-i-el-turisme-cinematografic
END:VEVENT
BEGIN:VTIMEZONE
TZID:Europe/Madrid
X-LIC-LOCATION:Europe/Madrid
BEGIN:DAYLIGHT
DTSTART;VALUE=DATE-TIME:20240331T030000
TZNAME:CEST
TZOFFSETFROM:+0100
TZOFFSETTO:+0200
END:DAYLIGHT
END:VTIMEZONE
END:VCALENDAR
