BEGIN:VCALENDAR
VERSION:2.0
PRODID:-//Plone.org//NONSGML plone.app.event//EN
X-WR-TIMEZONE:Europe/Madrid
BEGIN:VEVENT
SUMMARY:Xerrada introductòria al concert del Festival de Valsos
DTSTART;TZID=Europe/Madrid;VALUE=DATE-TIME:20231228T190000
DTEND;TZID=Europe/Madrid;VALUE=DATE-TIME:20231228T200000
DTSTAMP;VALUE=DATE-TIME:20260419T182352Z
UID:89b319d0e6b64ecca60db27b9a49d61a@www.paeria.cat
CATEGORIES:Cultura,Xerrades i conferències,Música
CREATED;VALUE=DATE-TIME:20231123T130954Z
DESCRIPTION:Cicle "Parlem de Música una eina per anar de concert"\nXerrad
 a pre-funció amb Albert Ferrer Flamarich
LAST-MODIFIED;VALUE=DATE-TIME:20260415T084324Z
URL:https://www.paeria.cat/ca/actualitat/agenda/xerrada-introductoria-al-c
 oncert-del-festival-de-valsos
END:VEVENT
BEGIN:VTIMEZONE
TZID:Europe/Madrid
X-LIC-LOCATION:Europe/Madrid
BEGIN:STANDARD
DTSTART;VALUE=DATE-TIME:20231029T020000
TZNAME:CET
TZOFFSETFROM:+0200
TZOFFSETTO:+0100
END:STANDARD
END:VTIMEZONE
END:VCALENDAR
