BEGIN:VCALENDAR
VERSION:2.0
PRODID:-//Plone.org//NONSGML plone.app.event//EN
X-WR-TIMEZONE:Europe/Madrid
BEGIN:VEVENT
SUMMARY:Xerrada- L’escenografia cinematogràfica. Un ofici invisible
DTSTART;TZID=Europe/Madrid;VALUE=DATE-TIME:20240312T180000
DTSTAMP;VALUE=DATE-TIME:20260423T052056Z
UID:35014f5d07194f9695b097684c32de4d@www.paeria.cat
CATEGORIES:Cultura,Xerrades i conferències
CREATED;VALUE=DATE-TIME:20240310T130149Z
LAST-MODIFIED;VALUE=DATE-TIME:20250514T130737Z
URL:https://www.paeria.cat/ca/actualitat/agenda/xerrada-l2019escenografia-
 cinematografica-un-ofici-invisible
END:VEVENT
BEGIN:VTIMEZONE
TZID:Europe/Madrid
X-LIC-LOCATION:Europe/Madrid
BEGIN:STANDARD
DTSTART;VALUE=DATE-TIME:20231029T020000
TZNAME:CET
TZOFFSETFROM:+0200
TZOFFSETTO:+0100
END:STANDARD
END:VTIMEZONE
END:VCALENDAR
